BEGIN:VCALENDAR
VERSION:2.0
PRODID:-//Tenor-Soprano - ECPv6.1.3//NONSGML v1.0//EN
CALSCALE:GREGORIAN
METHOD:PUBLISH
X-WR-CALNAME:Tenor-Soprano
X-ORIGINAL-URL:https://tenorsoprano.com
X-WR-CALDESC:Events for Tenor-Soprano
REFRESH-INTERVAL;VALUE=DURATION:PT1H
X-Robots-Tag:noindex
X-PUBLISHED-TTL:PT1H
BEGIN:VTIMEZONE
TZID:UTC
BEGIN:STANDARD
TZOFFSETFROM:+0000
TZOFFSETTO:+0000
TZNAME:UTC
DTSTART:20230101T000000
END:STANDARD
END:VTIMEZONE
BEGIN:VEVENT
DTSTART;TZID=UTC:20230304T080000
DTEND;TZID=UTC:20230304T170000
DTSTAMP:20260420T160012
CREATED:20221220T073925Z
LAST-MODIFIED:20221220T073926Z
UID:1041-1677916800-1677949200@tenorsoprano.com
SUMMARY:HUNYADI LÁSZLÓ
DESCRIPTION:6 PM: Show\n\n\n\nOpera in four acts\, in three parts\, in Hungarian\, with Hungarian and English surtitles\n\n\n\nJános Hunyadi is responsible for the tolling of bells around the world; Mátyás Hunyadi is the hero of a string of folk tales; László Hunyadi inspired “only” an opera. An opera that is actually about his younger brother\, the last great King of Hungary\, or at least the events leading up to his rule. However\, our current aim is not to raise László from the dead\, who was the reason for and explanation to why Mátyás Hunyadi ended up on the throne. True that the original score\, heard for the first time in almost ninety years\, provides an excellent opportunity to play the part of the knight\, executed while he was still young. The purpose of this production is to stage a piece authentic to the original and to use it to showcase the Opera’s artistic and technical possibilities. \n\n\n\nThe production of this work was created based on the critical edition series Ferenc Erkel Operas from the Department of  Hungarian Music History of the Institute for Musicology of the Research Centre for the Humanities.
URL:https://tenorsoprano.com/event/hunyadi-laszlo/
CATEGORIES:Opera Show - Kinga
ATTACH;FMTTYPE=image/jpeg:https://tenorsoprano.com/wp-content/uploads/2022/10/hunyadi.jpg
END:VEVENT
END:VCALENDAR