BEGIN:VCALENDAR
VERSION:2.0
PRODID:-//Tenor-Soprano - ECPv6.1.3//NONSGML v1.0//EN
CALSCALE:GREGORIAN
METHOD:PUBLISH
X-WR-CALNAME:Tenor-Soprano
X-ORIGINAL-URL:https://tenorsoprano.com
X-WR-CALDESC:Events for Tenor-Soprano
REFRESH-INTERVAL;VALUE=DURATION:PT1H
X-Robots-Tag:noindex
X-PUBLISHED-TTL:PT1H
BEGIN:VTIMEZONE
TZID:UTC
BEGIN:STANDARD
TZOFFSETFROM:+0000
TZOFFSETTO:+0000
TZNAME:UTC
DTSTART:20230101T000000
END:STANDARD
END:VTIMEZONE
BEGIN:VEVENT
DTSTART;TZID=UTC:20230430T080000
DTEND;TZID=UTC:20230430T170000
DTSTAMP:20260420T144042
CREATED:20221221T103704Z
LAST-MODIFIED:20221221T103705Z
UID:1116-1682841600-1682874000@tenorsoprano.com
SUMMARY:STEPHEN\, THE KING
DESCRIPTION:7 PM: Show\n\n\n\nRock-opera production in two parts\, in Hungarian\, with English surtitles\n\n\n\nBy far the most successful of the Hungarian crop of rock operas\, ever since its original album release Stephen\, the King has had not only symphonic features but has also been pervaded by the vocal\, closed number structure characteristic of traditional operas\, the presence of large tableaus\, and instrumentation that gives the rock music universal perspectives. The poems for Levente Szörényi\, who approached one of the fundamental stories in Hungarian history through Miklos Boldizsar’s play titled Ezredforduló (Turn of the Millennium)\, was written by his old co-author János Bródy. The Hungarian State Opera production stages the work with operatic instrumentation and opera singers. Thanks to the entirely symphonic score by composer Levente Gyöngyösi and the opera singers participating in the production\, the work completely sheds the need for amplification\, allowing new treasures to be discovered in the atmosphere of Hungary’s largest theatre\, the Erkel in the interpretation of Miklós Szinetár\,  the doyen of Hungarian directors.
URL:https://tenorsoprano.com/event/stephen-the-king-2/
CATEGORIES:Opera Show - Kinga
ATTACH;FMTTYPE=image/jpeg:https://tenorsoprano.com/wp-content/uploads/2022/10/istvan-a-kiraly.jpg
END:VEVENT
END:VCALENDAR