BEGIN:VCALENDAR
VERSION:2.0
PRODID:-//Tenor-Soprano - ECPv6.1.3//NONSGML v1.0//EN
CALSCALE:GREGORIAN
METHOD:PUBLISH
X-WR-CALNAME:Tenor-Soprano
X-ORIGINAL-URL:https://tenorsoprano.com
X-WR-CALDESC:Events for Tenor-Soprano
REFRESH-INTERVAL;VALUE=DURATION:PT1H
X-Robots-Tag:noindex
X-PUBLISHED-TTL:PT1H
BEGIN:VTIMEZONE
TZID:UTC
BEGIN:STANDARD
TZOFFSETFROM:+0000
TZOFFSETTO:+0000
TZNAME:UTC
DTSTART:20230101T000000
END:STANDARD
END:VTIMEZONE
BEGIN:VEVENT
DTSTART;TZID=UTC:20230517T080000
DTEND;TZID=UTC:20230517T170000
DTSTAMP:20260423T053638
CREATED:20221220T083056Z
LAST-MODIFIED:20221220T083414Z
UID:1079-1684310400-1684342800@tenorsoprano.com
SUMMARY:DIE FRAU OHNE SCHATTEN (THE WOMAN WITHOUT A SHADOW)
DESCRIPTION:6 PM: Public Rehearsal\n\n\n\nOpera in three acts\, in German\, with Hungarian and English surtitles\n\n\n\nThe daughter of the Emperor of the Spirit Realm turned from a gazelle into a beautiful girl. Hunter and prey fell in love with each other: the fairy girl became the Empress of the Southeastern Islands. Since then\, light has penetrated her body as if she were of glass: a spirit trapped in the world of humans. If she cannot obtain her shadow\, the Emperor will turn into stone…Conceived at wartime\, this tale is about humanity\, self-sacrifice and the appreciation of happiness.
URL:https://tenorsoprano.com/event/die-frau-ohne-schatten-the-woman-without-a-shadow/
CATEGORIES:Opera Show - István,Public dress rehearsal - István
ATTACH;FMTTYPE=image/jpeg:https://tenorsoprano.com/wp-content/uploads/2022/10/arnyeknelkli.jpg
END:VEVENT
END:VCALENDAR