BEGIN:VCALENDAR
VERSION:2.0
PRODID:-//Tenor-Soprano - ECPv6.1.3//NONSGML v1.0//EN
CALSCALE:GREGORIAN
METHOD:PUBLISH
X-ORIGINAL-URL:https://tenorsoprano.com
X-WR-CALDESC:Events for Tenor-Soprano
REFRESH-INTERVAL;VALUE=DURATION:PT1H
X-Robots-Tag:noindex
X-PUBLISHED-TTL:PT1H
BEGIN:VTIMEZONE
TZID:UTC
BEGIN:STANDARD
TZOFFSETFROM:+0000
TZOFFSETTO:+0000
TZNAME:UTC
DTSTART:20230101T000000
END:STANDARD
END:VTIMEZONE
BEGIN:VEVENT
DTSTART;TZID=UTC:20230615T080000
DTEND;TZID=UTC:20230615T170000
DTSTAMP:20260423T040340
CREATED:20221220T084829Z
LAST-MODIFIED:20221220T084830Z
UID:1093-1686816000-1686848400@tenorsoprano.com
SUMMARY:ARIADNE AUF NAXOS
DESCRIPTION:6 PM: Public rehearsal\n\n\n\nOpera in one act with prologue\, in German\, with Hungarian and English surtitles\n\n\n\n„Music is a sacred art\, gathering the wildest follies like cherubim around a gleaming throne!” – such is the Composer’s article of faith proclaimed in the Prologue of Ariadne auf Naxos which is the most exciting opera of Richard Strauss and Hugo von Hofmannstahl. It playfully combines two very different art forms: tragic opera and romantic farce. The result is a richly textured work that examines the role of art in society\, and contrasts true love with cheerful promiscuity. „We perform merriness and sadness\, love and death simultaneously because we must live. And this is life itself. As these emotions are mixed in our everyday lives\, now they will be mixed at the theatre too.” – says the stage director\, Ferenc Anger.
URL:https://tenorsoprano.com/event/ariadne-auf-naxos/
CATEGORIES:Public dress rehearsal - István
ATTACH;FMTTYPE=image/jpeg:https://tenorsoprano.com/wp-content/uploads/2022/10/ariadne.jpg
END:VEVENT
END:VCALENDAR